BEGIN:VCALENDAR
VERSION:2.0
PRODID:-//ChamberMaster//Event Calendar 2.0//EN
METHOD:PUBLISH
X-PUBLISHED-TTL:P3D
REFRESH-INTERVAL:P3D
CALSCALE:GREGORIAN
BEGIN:VEVENT
DTSTART:20191026T140000Z
DTEND:20191026T153000Z
X-MICROSOFT-CDO-ALLDAYEVENT:FALSE
SUMMARY:*2019 Streets of Treats Halloween Event
DESCRIPTION:Please join Northville in this Halloween Tradition.\n\nFree Event\, Open to the Public\n\n\n\nOctober is a very special month in Northville and to add to the fun\, the Northville Chamber of Commerce is partnering with the Northville Businesses and Downtown Northville to present an event that features the downtown Northville businesses.\n\n\n\nKids and parents are invited to welcome the Tooth Fairy from Preservation Dental into town with a ceremonial wave to kick off the Downtown Trick or Treating at 10am in Town square on Saturday\, October 26. Following the wave participants will start trick or treating at the downtown businesses and treat stations along the route till 11:30am. Meet us in Town square to revel your 2019 costume to your friends.\n\n\n\nEnjoy the skeleton sculptures placed around the downtown while enjoying a fun\, family friendly Halloween activity in charming downtown Northville. \n\nThe event is free\, through the generosity of sponsors Tom Holzer Ford\, the Downtown Northville and the others below.\n\n\n\nThank you to our sponsors   Downtown Northville\, Preservation Dental\, Enjoy Northville\, Northville American Legion Post 147\, Today's Orthodontics\, Northville Christian Assembly & Northville Christian School\, TDR Specialists in Orthodontics - Novi\, Northville Parks and Recreation\, Remerica Hometown One.. Home Ownership Rocks!\, Michigan Bath Solutions\, and MascoCorp.\n\n\n\nContact the Northville Chamber of Commerce at 248-349-7640 or LindseyButzin@northville.org for additional information or to sponsor at treat station.\n\n\n\nPlease be mindful that this is a Family Friendly - Kids Event and that costumes should not be too scary so that all participants are able to have a fantastic time.
X-ALT-DESC;FMTTYPE=text/html:<span style="color: rgb(29\, 33\, 41)\; font-family: Helvetica\, Arial\, sans-serif\; font-size: 14px\; white-space: pre-wrap\;">Please join Northville in this Halloween Tradition.</span><br style="color: rgb(29\, 33\, 41)\; font-family: Helvetica\, Arial\, sans-serif\; font-size: 14px\; white-space: pre-wrap\;" />\n<span style="color: rgb(29\, 33\, 41)\; font-family: Helvetica\, Arial\, sans-serif\; font-size: 14px\; white-space: pre-wrap\;">Free Event\, Open to the Public</span><br style="color: rgb(29\, 33\, 41)\; font-family: Helvetica\, Arial\, sans-serif\; font-size: 14px\; white-space: pre-wrap\;" />\n<br style="color: rgb(29\, 33\, 41)\; font-family: Helvetica\, Arial\, sans-serif\; font-size: 14px\; white-space: pre-wrap\;" />\n<span style="color: rgb(29\, 33\, 41)\; font-family: Helvetica\, Arial\, sans-serif\; font-size: 14px\; white-space: pre-wrap\;">October is a very special month in Northville and to add to the fun\, the Northville Chamber of Commerce is partnering with the Northville Businesses and </span><a href="https://www.facebook.com/DowntownNorthville/" style="color: rgb(56\, 88\, 152)\; cursor: pointer\; text-decoration-line: none\; font-family: Helvetica\, Arial\, sans-serif\; font-size: 14px\; white-space: pre-wrap\;" target="_blank">Downtown Northville</a><span style="color: rgb(29\, 33\, 41)\; font-family: Helvetica\, Arial\, sans-serif\; font-size: 14px\; white-space: pre-wrap\;"> to present an event that features the downtown Northville businesses.</span><br style="color: rgb(29\, 33\, 41)\; font-family: Helvetica\, Arial\, sans-serif\; font-size: 14px\; white-space: pre-wrap\;" />\n<br style="color: rgb(29\, 33\, 41)\; font-family: Helvetica\, Arial\, sans-serif\; font-size: 14px\; white-space: pre-wrap\;" />\n<span style="color: rgb(29\, 33\, 41)\; font-family: Helvetica\, Arial\, sans-serif\; font-size: 14px\; white-space: pre-wrap\;">Kids and parents are invited to welcome the Tooth Fairy from </span><a href="https://www.facebook.com/docdemray/" style="color: rgb(56\, 88\, 152)\; cursor: pointer\; text-decoration-line: none\; font-family: Helvetica\, Arial\, sans-serif\; font-size: 14px\; white-space: pre-wrap\;" target="_blank">Preservation Dental</a><span style="color: rgb(29\, 33\, 41)\; font-family: Helvetica\, Arial\, sans-serif\; font-size: 14px\; white-space: pre-wrap\;"> into town with a ceremonial wave to kick off the Downtown Trick or Treating at 10am in Town square on Saturday\, October 26. Following the wave participants will start trick or treating at the downtown businesses and treat stations along the route till 11:30am. Meet us in Town square to revel your 2019 costume to your friends.</span><br style="color: rgb(29\, 33\, 41)\; font-family: Helvetica\, Arial\, sans-serif\; font-size: 14px\; white-space: pre-wrap\;" />\n<br style="color: rgb(29\, 33\, 41)\; font-family: Helvetica\, Arial\, sans-serif\; font-size: 14px\; white-space: pre-wrap\;" />\n<span style="color: rgb(29\, 33\, 41)\; font-family: Helvetica\, Arial\, sans-serif\; font-size: 14px\; white-space: pre-wrap\;">Enjoy the skeleton sculptures placed around the downtown while enjoying a fun\, family friendly Halloween activity in charming downtown Northville. </span><br style="color: rgb(29\, 33\, 41)\; font-family: Helvetica\, Arial\, sans-serif\; font-size: 14px\; white-space: pre-wrap\;" />\n<span style="color: rgb(29\, 33\, 41)\; font-family: Helvetica\, Arial\, sans-serif\; font-size: 14px\; white-space: pre-wrap\;">The event is free\, through the generosity of sponsors </span><a href="https://www.facebook.com/tomholzerford/" style="color: rgb(56\, 88\, 152)\; cursor: pointer\; text-decoration-line: none\; font-family: Helvetica\, Arial\, sans-serif\; font-size: 14px\; white-space: pre-wrap\;" target="_blank">Tom Holzer Ford</a><span style="color: rgb(29\, 33\, 41)\; font-family: Helvetica\, Arial\, sans-serif\; font-size: 14px\; white-space: pre-wrap\;">\, the </span><a href="https://www.facebook.com/DowntownNorthville/" style="color: rgb(56\, 88\, 152)\; cursor: pointer\; text-decoration-line: none\; font-family: Helvetica\, Arial\, sans-serif\; font-size: 14px\; white-space: pre-wrap\;" target="_blank">Downtown Northville</a><span style="color: rgb(29\, 33\, 41)\; font-family: Helvetica\, Arial\, sans-serif\; font-size: 14px\; white-space: pre-wrap\;"> and the others below.</span><br style="color: rgb(29\, 33\, 41)\; font-family: Helvetica\, Arial\, sans-serif\; font-size: 14px\; white-space: pre-wrap\;" />\n<br style="color: rgb(29\, 33\, 41)\; font-family: Helvetica\, Arial\, sans-serif\; font-size: 14px\; white-space: pre-wrap\;" />\n<span style="color: rgb(29\, 33\, 41)\; font-family: Helvetica\, Arial\, sans-serif\; font-size: 14px\; white-space: pre-wrap\;">Thank you to our sponsors &ndash\; </span><a href="https://www.facebook.com/DowntownNorthville/" style="color: rgb(56\, 88\, 152)\; cursor: pointer\; text-decoration-line: none\; font-family: Helvetica\, Arial\, sans-serif\; font-size: 14px\; white-space: pre-wrap\;" target="_blank">Downtown Northville</a><span style="color: rgb(29\, 33\, 41)\; font-family: Helvetica\, Arial\, sans-serif\; font-size: 14px\; white-space: pre-wrap\;">\, </span><a href="https://www.facebook.com/docdemray/" style="color: rgb(56\, 88\, 152)\; cursor: pointer\; text-decoration-line: none\; font-family: Helvetica\, Arial\, sans-serif\; font-size: 14px\; white-space: pre-wrap\;" target="_blank">Preservation Dental</a><span style="color: rgb(29\, 33\, 41)\; font-family: Helvetica\, Arial\, sans-serif\; font-size: 14px\; white-space: pre-wrap\;">\, </span><a href="https://www.facebook.com/enjoynorthville/" style="color: rgb(56\, 88\, 152)\; cursor: pointer\; text-decoration-line: none\; font-family: Helvetica\, Arial\, sans-serif\; font-size: 14px\; white-space: pre-wrap\;" target="_blank">Enjoy Northville</a><span style="color: rgb(29\, 33\, 41)\; font-family: Helvetica\, Arial\, sans-serif\; font-size: 14px\; white-space: pre-wrap\;">\, </span><a href="https://www.facebook.com/ALPost147MI/" style="color: rgb(56\, 88\, 152)\; cursor: pointer\; text-decoration-line: none\; font-family: Helvetica\, Arial\, sans-serif\; font-size: 14px\; white-space: pre-wrap\;" target="_blank">Northville American Legion Post 147</a><span style="color: rgb(29\, 33\, 41)\; font-family: Helvetica\, Arial\, sans-serif\; font-size: 14px\; white-space: pre-wrap\;">\, </span><a href="https://www.facebook.com/todaysortho/" style="color: rgb(56\, 88\, 152)\; cursor: pointer\; text-decoration-line: none\; font-family: Helvetica\, Arial\, sans-serif\; font-size: 14px\; white-space: pre-wrap\;" target="_blank">Today&#39\;s Orthodontics</a><span style="color: rgb(29\, 33\, 41)\; font-family: Helvetica\, Arial\, sans-serif\; font-size: 14px\; white-space: pre-wrap\;">\, </span><a href="https://www.facebook.com/northvillechristian/" style="color: rgb(56\, 88\, 152)\; cursor: pointer\; text-decoration-line: none\; font-family: Helvetica\, Arial\, sans-serif\; font-size: 14px\; white-space: pre-wrap\;" target="_blank">Northville Christian Assembly</a><span style="color: rgb(29\, 33\, 41)\; font-family: Helvetica\, Arial\, sans-serif\; font-size: 14px\; white-space: pre-wrap\;"> &amp\; </span><a href="https://www.facebook.com/NorthvilleChristianSchool/" style="color: rgb(56\, 88\, 152)\; cursor: pointer\; text-decoration-line: none\; font-family: Helvetica\, Arial\, sans-serif\; font-size: 14px\; white-space: pre-wrap\;" target="_blank">Northville Christian School</a><span style="color: rgb(29\, 33\, 41)\; font-family: Helvetica\, Arial\, sans-serif\; font-size: 14px\; white-space: pre-wrap\;">\, </span><a href="https://www.facebook.com/pages/TDR-Specialists-in-Orthodontics-Novi/371112493082179" style="color: rgb(56\, 88\, 152)\; cursor: pointer\; text-decoration-line: none\; font-family: Helvetica\, Arial\, sans-serif\; font-size: 14px\; white-space: pre-wrap\;" target="_blank">TDR Specialists in Orthodontics - Novi</a><span style="color: rgb(29\, 33\, 41)\; font-family: Helvetica\, Arial\, sans-serif\; font-size: 14px\; white-space: pre-wrap\;">\, </span><a href="https://www.facebook.com/NorthvilleParksandRec/" style="color: rgb(56\, 88\, 152)\; cursor: pointer\; text-decoration-line: none\; font-family: Helvetica\, Arial\, sans-serif\; font-size: 14px\; white-space: pre-wrap\;" target="_blank">Northville Parks and Recreation</a><span style="color: rgb(29\, 33\, 41)\; font-family: Helvetica\, Arial\, sans-serif\; font-size: 14px\; white-space: pre-wrap\;">\, </span><a href="https://www.facebook.com/hometownone/" style="color: rgb(56\, 88\, 152)\; cursor: pointer\; text-decoration-line: none\; font-family: Helvetica\, Arial\, sans-serif\; font-size: 14px\; white-space: pre-wrap\;" target="_blank">Remerica Hometown One.. Home Ownership Rocks!</a><span style="color: rgb(29\, 33\, 41)\; font-family: Helvetica\, Arial\, sans-serif\; font-size: 14px\; white-space: pre-wrap\;">\, Michigan Bath Solutions\, and </span><a href="https://www.facebook.com/MascoCorp/" style="color: rgb(56\, 88\, 152)\; cursor: pointer\; text-decoration-line: none\; font-family: Helvetica\, Arial\, sans-serif\; font-size: 14px\; white-space: pre-wrap\;" target="_blank">MascoCorp</a><span style="color: rgb(29\, 33\, 41)\; font-family: Helvetica\, Arial\, sans-serif\; font-size: 14px\; white-space: pre-wrap\;">.</span><br style="color: rgb(29\, 33\, 41)\; font-family: Helvetica\, Arial\, sans-serif\; font-size: 14px\; white-space: pre-wrap\;" />\n<br style="color: rgb(29\, 33\, 41)\; font-family: Helvetica\, Arial\, sans-serif\; font-size: 14px\; white-space: pre-wrap\;" />\n<span style="color: rgb(29\, 33\, 41)\; font-family: Helvetica\, Arial\, sans-serif\; font-size: 14px\; white-space: pre-wrap\;">Contact the Northville Chamber of Commerce at 248-349-7640 or LindseyButzin@northville.org for additional information or to sponsor at treat station.</span><br style="color: rgb(29\, 33\, 41)\; font-family: Helvetica\, Arial\, sans-serif\; font-size: 14px\; white-space: pre-wrap\;" />\n<br style="color: rgb(29\, 33\, 41)\; font-family: Helvetica\, Arial\, sans-serif\; font-size: 14px\; white-space: pre-wrap\;" />\n<span style="color: rgb(29\, 33\, 41)\; font-family: Helvetica\, Arial\, sans-serif\; font-size: 14px\; white-space: pre-wrap\;">Please be mindful that this is a Family Friendly - Kids Event and that costumes should not be too scary so that all participants are able to have a fantastic time.</span>
LOCATION:Downtown Northville\, MI
UID:e.3463.172
SEQUENCE:3
DTSTAMP:20260419T184509Z
URL:https://www.northville.org/events/details/2019-streets-of-treats-halloween-event-172
END:VEVENT

END:VCALENDAR
