BEGIN:VCALENDAR
VERSION:2.0
PRODID:-//ChamberMaster//Event Calendar 2.0//EN
METHOD:PUBLISH
X-PUBLISHED-TTL:P3D
REFRESH-INTERVAL:P3D
CALSCALE:GREGORIAN
BEGIN:VEVENT
DTSTART;VALUE=DATE:20191004
DTEND;VALUE=DATE:20191005
TRANSP:TRANSPARENT
X-MICROSOFT-CDO-ALLDAYEVENT:TRUE
SUMMARY:8th Annual Skeletons are Alive Launch Party
DESCRIPTION:
X-ALT-DESC;FMTTYPE=text/html:
LOCATION:Downtown Northville
UID:e.3463.166
SEQUENCE:3
DTSTAMP:20260419T184422Z
URL:https://www.northville.org/events/details/8th-annual-skeletons-are-alive-launch-party-166
END:VEVENT

END:VCALENDAR
