BEGIN:VCALENDAR
VERSION:2.0
PRODID:-//ChamberMaster//Event Calendar 2.0//EN
METHOD:PUBLISH
X-PUBLISHED-TTL:P3D
REFRESH-INTERVAL:P3D
CALSCALE:GREGORIAN
BEGIN:VEVENT
DTSTART:20191020T173000Z
DTEND:20191020T200000Z
X-MICROSOFT-CDO-ALLDAYEVENT:FALSE
SUMMARY:Cider on Sunday
DESCRIPTION:Social gathering presented by the Friends of the library. Crafts\, raffle\, scavenger hunt\, cider and donuts. Free.
X-ALT-DESC;FMTTYPE=text/html:Social gathering presented by the Friends of the library. Crafts\, raffle\, scavenger hunt\, cider and donuts. Free.
LOCATION:Northville District Library\, 212 W. Cady Street\, Northville\, MI
UID:e.3463.333
SEQUENCE:3
DTSTAMP:20260419T184025Z
URL:https://www.northville.org/events/details/cider-on-sunday-333
END:VEVENT

END:VCALENDAR
