BEGIN:VCALENDAR
VERSION:2.0
PRODID:-//ChamberMaster//Event Calendar 2.0//EN
METHOD:PUBLISH
X-PUBLISHED-TTL:P3D
REFRESH-INTERVAL:P3D
CALSCALE:GREGORIAN
BEGIN:VEVENT
DTSTART:20191031T220000Z
DTEND:20191101T000000Z
X-MICROSOFT-CDO-ALLDAYEVENT:FALSE
SUMMARY:Community Trick or Treating
DESCRIPTION:Several streets in historical Northville are CLOSED to traffic. Costume Contest held at Community Center\, 303 W. Main Street\, Northville at 7:30pm.
X-ALT-DESC;FMTTYPE=text/html:Several streets in historical Northville are CLOSED to traffic. Costume Contest held at Community Center\, 303 W. Main Street\, Northville at 7:30pm.
LOCATION:Community Center\, 303 W. Main Street\, Northville
UID:e.3463.173
SEQUENCE:3
DTSTAMP:20260419T184126Z
URL:https://www.northville.org/events/details/community-trick-or-treating-173
END:VEVENT

END:VCALENDAR
