BEGIN:VCALENDAR
VERSION:2.0
PRODID:-//ChamberMaster//Event Calendar 2.0//EN
METHOD:PUBLISH
X-PUBLISHED-TTL:P3D
REFRESH-INTERVAL:P3D
CALSCALE:GREGORIAN
BEGIN:VEVENT
DTSTART:20191030T210000Z
DTEND:20191030T220000Z
X-MICROSOFT-CDO-ALLDAYEVENT:FALSE
SUMMARY:Dog Park Costume Contest
DESCRIPTION:Attention Northville Parks and Recreation dog park members! Join us at the #6 ranked dog park in Metro Detroit - Cady Street Dog Park for a costume contest! The contest will be held for the best owner/dog costume. All K-9 participants will receive a yummy treat! We look forward to a Howling Fun Time! Please note you must have an active dog park membership to participate and register.\n\n\n\nWednesday\, October 30th\n\n5:00-6:00pm\n\nRegistration Deadline: Monday\, October 28 at 4:30pm\n\nFee: $5/dog & owner
X-ALT-DESC;FMTTYPE=text/html:Attention Northville Parks and Recreation dog park members! Join us at the #6 ranked dog park in Metro Detroit - Cady Street Dog Park for a costume contest! The contest will be held for the best owner/dog costume. All K-9 participants will receive a yummy treat! We look forward to a Howling Fun Time! Please note you must have an active dog park membership to participate and register.<br />\n<br />\nWednesday\, October 30th<br />\n5:00-6:00pm<br />\nRegistration Deadline: Monday\, October 28 at 4:30pm<br />\nFee: $5/dog &amp\; owner
LOCATION:Cady Street Dog Park
UID:e.3463.318
SEQUENCE:3
DTSTAMP:20260419T184345Z
URL:https://www.northville.org/events/details/dog-park-costume-contest-318
END:VEVENT

END:VCALENDAR
