BEGIN:VCALENDAR
VERSION:2.0
PRODID:-//ChamberMaster//Event Calendar 2.0//EN
METHOD:PUBLISH
X-PUBLISHED-TTL:P3D
REFRESH-INTERVAL:P3D
CALSCALE:GREGORIAN
BEGIN:VEVENT
DTSTART:20260321T140000Z
DTEND:20260321T160000Z
X-MICROSOFT-CDO-ALLDAYEVENT:FALSE
SUMMARY:Easter Eggstravaganza
DESCRIPTION:Hop into a day of fun at our Easter Eggstravaganza on Saturday\, March 21! This is a free\, family event featuring face painting\, egg hunts\, crafts\, and games at First Presbyterian Church of Northville (200 E. Main Street Northville\, MI 48167). Please enter from Hutton Street. The event runs from 10 a.m. to 12 noon. We hope to see you there!
X-ALT-DESC;FMTTYPE=text/html:Hop into a day of fun at our Easter Eggstravaganza on Saturday\, March 21! This is a free\, family event featuring face painting\, egg hunts\, crafts\, and games at First Presbyterian Church of Northville (200 E. Main Street Northville\, MI 48167). Please enter from Hutton Street. The event runs from 10 a.m. to 12 noon. We hope to see you there!
LOCATION:First Presbyterian Church of Northville 200 E. Main St. Northville\, MI 48167
UID:e.3463.6771
SEQUENCE:3
DTSTAMP:20260421T112445Z
URL:https://www.northville.org/events/details/easter-eggstravaganza-03-21-2026-6771
END:VEVENT

END:VCALENDAR
