BEGIN:VCALENDAR
VERSION:2.0
PRODID:-//ChamberMaster//Event Calendar 2.0//EN
METHOD:PUBLISH
X-PUBLISHED-TTL:P3D
REFRESH-INTERVAL:P3D
CALSCALE:GREGORIAN
BEGIN:VEVENT
DTSTART:20191015T230000Z
DTEND:20191016T003000Z
X-MICROSOFT-CDO-ALLDAYEVENT:FALSE
SUMMARY:Eloise: Facts and Fiction
DESCRIPTION:Novelist D.E.Johnson presents how Eloise has gone from a poor house to a hospital to an asylum\, a large complex with much history and many mysteries behind its iron gates.
X-ALT-DESC;FMTTYPE=text/html:<p><span style="font-size:18px">Novelist <a href="https://catalog.tln.lib.mi.us/?section=search&amp\;term=Johnson%2C%20D.%20E.&amp\;page=0&amp\;sortKey=Relevancy&amp\;db=ls2pac&amp\;branchFilters=[%223%22\,%224%22\,%225%22\,%226%22\,%227%22\,%228%22\,%229%22\,%2210%22\,%2212%22\,%2213%22\,%2214%22\,%2215%22\,%2216%22\,%2218%22\,%2219%22\,%2220%22\,%2221%22\,%2222%22\,%2223%22\,%2224%22\,%2226%22\,%2228%22\,%2229%22\,%2230%22\,%2231%22\,%2232%22\,%2234%22\,%2237%22\,%2238%22\,%2239%22\,%2240%22\,%2241%22\,%2242%22\,%2243%22\,%2249%22\,%2250%22\,%2256%22\,%2258%22\,%2262%22\,%2264%22\,%2265%22\,%2266%22\,%2269%22\,%2271%22\,%2273%22\,%2293%22\,%2295%22\,%2297%22\,%2298%22\,%22212%22\,%22213%22\,%22216%22\,%22217%22\,%22221%22\,%22249%22\,%22250%22]&amp\;facetFilters=[]" target="_self" title="">D.E.Johnson</a> presents how Eloise has gone from a poor house to a hospital to an asylum\, a large complex with much history and many mysteries behind its iron gates.</span></p>\n\n<p>&nbsp\;</p>\n
LOCATION:The Carlo Room Northville District Library 212 W. Cady St. Northville\, MI 48167
UID:e.3463.301
SEQUENCE:3
DTSTAMP:20260419T184259Z
URL:https://www.northville.org/events/details/eloise-facts-and-fiction-301
END:VEVENT

END:VCALENDAR
