BEGIN:VCALENDAR
VERSION:2.0
PRODID:-//ChamberMaster//Event Calendar 2.0//EN
METHOD:PUBLISH
X-PUBLISHED-TTL:P3D
REFRESH-INTERVAL:P3D
CALSCALE:GREGORIAN
BEGIN:VEVENT
DTSTART:20260511T220000Z
DTEND:20260511T233000Z
X-MICROSOFT-CDO-ALLDAYEVENT:FALSE
SUMMARY:Financial Seminar: What to do after the Loss of a Spouse
DESCRIPTION:
X-ALT-DESC;FMTTYPE=text/html:
LOCATION:New Hope Center for Grief Support\, Suite 160\, Northville\, MI 48167
UID:e.3463.6672
SEQUENCE:3
DTSTAMP:20260424T092339Z
URL:https://www.northville.org/events/details/financial-seminar-what-to-do-after-the-loss-of-a-spouse-6672
END:VEVENT

END:VCALENDAR
