BEGIN:VCALENDAR
VERSION:2.0
PRODID:-//ChamberMaster//Event Calendar 2.0//EN
METHOD:PUBLISH
X-PUBLISHED-TTL:P3D
REFRESH-INTERVAL:P3D
CALSCALE:GREGORIAN
BEGIN:VEVENT
DTSTART:20260416T160000Z
DTEND:20260416T173000Z
X-MICROSOFT-CDO-ALLDAYEVENT:FALSE
SUMMARY:Grief Sensitivity Training (Community)
DESCRIPTION:Grief Sensitivity Training for our volunteers and community partners. Offered in-person and recorded as an online resource.
X-ALT-DESC;FMTTYPE=text/html:<span style="color:rgb(0\, 0\, 0)\; font-family:wordvisi_msfontservice\,calibri\,calibri_embeddedfont\,calibri_msfontservice\,sans-serif\; font-size:14.6667px">Grief Sensitivity Training for our volunteers and community partners. Offered in-person and recorded as an online resource.&nbsp\;</span>
LOCATION:New Hope Center for Grief Support\, 133 W. Main Street\, Suite 160\, Northville\, MI 48167
UID:e.3463.6669
SEQUENCE:3
DTSTAMP:20260421T151139Z
URL:https://www.northville.org/events/details/grief-sensitivity-training-community-6669
END:VEVENT

END:VCALENDAR
