BEGIN:VCALENDAR
VERSION:2.0
PRODID:-//ChamberMaster//Event Calendar 2.0//EN
METHOD:PUBLISH
X-PUBLISHED-TTL:P3D
REFRESH-INTERVAL:P3D
CALSCALE:GREGORIAN
BEGIN:VEVENT
DTSTART:20260424T220000Z
DTEND:20260425T030000Z
X-MICROSOFT-CDO-ALLDAYEVENT:FALSE
SUMMARY:Journey to Hope Gala
DESCRIPTION:This is a fundraising event benefiting New Hope Center for Grief Support. We will have dinner\, music and dancing\, raffles\, auctions\, and much more. Your contributions help provide free peer-led grief support to the children\, teens\, and adults that are grieving the death of a loved one.  Help give the gift of hope.
X-ALT-DESC;FMTTYPE=text/html:<span style="color:windowtext\; font-family:calibri\,calibri_embeddedfont\,calibri_msfontservice\,sans-serif\; font-size:11pt">This is a fundraising event&nbsp\;benefiting&nbsp\;New&nbsp\;Hope Center for Grief Support. We will have dinner\, music and dancing\, raffles\, auctions\, and much more. Your contributions help provide free peer-led grief support to the children\, teens\, and adults that are grieving the death of a loved one.&nbsp\;&nbsp\;Help give the gift of hope.</span><span style="color:windowtext\; font-family:calibri\,calibri_embeddedfont\,calibri_msfontservice\,sans-serif\; font-size:11pt">&nbsp\;</span>
LOCATION:The Italian American Banquet and Conference Center 39200 Five Mile Road Livonia\, MI 48154
UID:e.3463.6670
SEQUENCE:3
DTSTAMP:20260421T153243Z
URL:https://www.northville.org/events/details/journey-to-hope-gala-6670
END:VEVENT

END:VCALENDAR
