BEGIN:VCALENDAR
VERSION:2.0
PRODID:-//ChamberMaster//Event Calendar 2.0//EN
METHOD:PUBLISH
X-PUBLISHED-TTL:P3D
REFRESH-INTERVAL:P3D
CALSCALE:GREGORIAN
BEGIN:VEVENT
DTSTART:20191015T213000Z
DTEND:20191015T230000Z
X-MICROSOFT-CDO-ALLDAYEVENT:FALSE
SUMMARY:Northville Chamber of Commerce Annual Meeting of Membership
DESCRIPTION:Please join the Board and Staff of the Northville Chamber of Commerce for our 2019 Annual Meeting on Tuesday\, October 15th at 5:30pm\, Program begins at 6:00pm.\n\nHeld at Genitti's\, 108 E Main Street\, Northville\, MI 48167\n\n\n\nJoin us in recognizing the 2020 John Genitti Citizen of the Year Award and Annual Membership Meeting Reception.\n\n\n\nRSVP by October 12\, 2019 to LindseyButzin@northville.org or Register online at www.northville.org\n\n\n\n\n\nA little more about the "John Genitti Citizen of the Year Award" and Nomination Form\n\nSubmissions are due by September 23\, 2019\n\nEach year\, the Northville Chamber of Commerce celebrates the dedication and commitment of community members that give their time\, energy and talent to make Northville a special place to live\, work and play. In 2014\, the Award was designated the "John Genitti Citizen of the Year Award"\, in honor of local resident and businessman John Genitti.\n\nThe selection of the Citizen of the Year is awarded at the Chamber of Commerce Annual Meeting held Wednesday\, October 15 at Genitti's. The Citizen of the year receives a place of honor in the Holiday Lighted Parade (2019)\, The Independence Day Parade (2020) and the Heritage Festival Parade (2020).\n\nCriteria for Nomination\n\nThe nominee must:\n\n  Be involved in actively supporting (through time\, talent or financial support) an organization that improves our community.\n\n  Live or work in the Northville Community.\n\n  Show concern for community\, environment and family.\n\n  Be a role model for community youth and citizens.\n\n\n\nPlease nominate a deserving individual for the Northville Chamber of Commerce Citizen of the Year Award and a brief outline of the reasons they qualify for Citizen of the Year status.\n\n\n\n	\n	\n	\n	\n		\n		Online Citizen of the Year Nomination Form\n		\n	\n	\n	\n	\n	\n	\n	\n	\n		\n		PDF Citizen of the Year Form
X-ALT-DESC;FMTTYPE=text/html:<div id="content-477100">\n<p><span style="font-size:12px\;"><span style="font-family:verdana\;">Please join the Board and Staff of the Northville Chamber of Commerce for our 2019 Annual Meeting on Tuesday\, October 15th at 5:30pm\, Program begins at 6:00pm.<br />\nHeld at Genitti&#39\;s\, 108 E Main Street\, Northville\, MI 48167<br />\n<br />\nJoin us in recognizing the 2020 John Genitti Citizen of&nbsp\;the Year Award and&nbsp\;Annual Membership Meeting Reception.<br />\n<br />\nRSVP by October 12\, 2019 to LindseyButzin@northville.org or Register online at www.northville.org<br />\n<br />\n<br />\nA little more about the&nbsp\;&ldquo\;John Genitti Citizen of the Year Award&rdquo\; and Nomination Form<br />\nSubmissions are due by September 23\, 2019</span></span></p>\n\n<p><span style="font-size:12px\;"><span style="font-family:verdana\;">Each year\, the Northville Chamber of Commerce celebrates the dedication and commitment of community members that give their time\, energy and talent to make Northville a special place to live\, work and play. In 2014\, the Award was designated the &ldquo\;John Genitti Citizen of the Year Award&rdquo\;\, in honor of local resident and businessman John Genitti.</span></span></p>\n\n<p><span style="font-size:12px\;"><span style="font-family:verdana\;">The selection of the Citizen of the Year is awarded at the Chamber of Commerce Annual Meeting held Wednesday\, October 15 at Genitti&#39\;s. The Citizen of the year receives a place of honor in the Holiday Lighted Parade (2019)\, The Independence Day Parade (2020) and the Heritage Festival Parade (2020).</span></span></p>\n\n<p><span style="font-size:12px\;"><span style="font-family:verdana\;">Criteria for Nomination</span></span></p>\n\n<p><span style="font-size:12px\;"><span style="font-family:verdana\;">The nominee must:<br />\n&bull\; Be involved in actively supporting (through time\, talent or financial support) an organization that improves our community.<br />\n&bull\; Live or work in the Northville Community.<br />\n&bull\; Show concern for community\, environment and family.<br />\n&bull\; Be a role model for community youth and citizens.</span></span></p>\n\n<p><br />\n<span style="font-size:12px\;"><span style="font-family:verdana\;">Please nominate a deserving individual for the Northville Chamber of Commerce Citizen of the Year Award and a brief outline of the reasons they qualify for Citizen of the Year status.</span></span></p>\n</div>\n\n<ul background-color:="" font-size:="" helvetica="" letter-spacing:="">\n	<li contentid="477054" contenttypeid="7" order="1" pageareaid="2">\n	<div>\n	<div>\n	<ul id="content-477054">\n		<li>\n		<p><span style="font-size:12px\;"><span style="font-family:verdana\;"><a href="https://docs.google.com/forms/d/e/1FAIpQLSeiNWtrPCu419JrYWQbcLXLhtVDNZ-LsCv3BFUim2j0FG9qVw/viewform?vc=0&amp\;c=0&amp\;w=1" target="">Online Citizen of the Year Nomination Form</a></span></span></p>\n		</li>\n	</ul>\n	</div>\n	</div>\n	</li>\n	<li contentid="477062" contenttypeid="7" order="2" pageareaid="2">\n	<div>\n	<div>\n	<ul id="content-477062">\n		<li>\n		<p><span style="font-size:12px\;"><span style="font-family:verdana\;"><a href="https://chambermaster.blob.core.windows.net/userfiles/UserFiles/chambers/3463/CMS/Citizen_of_the_Year/Citizen-of-the-Year-Award-FORM.pdf" target="">PDF Citizen of the Year Form</a></span></span></p>\n		</li>\n	</ul>\n	</div>\n	</div>\n	</li>\n</ul>\n
LOCATION:Genitti's\, 108 E Main Street\, Northville\, MI 48167
UID:e.3463.322
SEQUENCE:3
DTSTAMP:20260419T184756Z
URL:https://www.northville.org/events/details/northville-chamber-of-commerce-annual-meeting-of-membership-322
END:VEVENT

END:VCALENDAR
