BEGIN:VCALENDAR
VERSION:2.0
PRODID:-//ChamberMaster//Event Calendar 2.0//EN
METHOD:PUBLISH
X-PUBLISHED-TTL:P3D
REFRESH-INTERVAL:P3D
CALSCALE:GREGORIAN
BEGIN:VEVENT
DTSTART:20191024T120000Z
DTEND:20191024T190000Z
X-MICROSOFT-CDO-ALLDAYEVENT:FALSE
SUMMARY:Northville Farmers Market 2019
DESCRIPTION:The annual Farmers' Market is filled each week with seasonal offerings by Michigan growers\, vendors and crafters. Flowers\, produce\, honey\, plants\, hand crafted items\, baked goods and more\, depending on the season. Presenting Sponsor: Tom Holzer Ford. Master Gardner's onsite each week from 8:00am - noon. For more information contact the Northville Chamber of Commerce at www.northville.org or 248-349-7640
X-ALT-DESC;FMTTYPE=text/html:The annual Farmers&#39\; Market is filled each week with seasonal offerings by Michigan growers\, vendors and crafters. Flowers\, produce\, honey\, plants\, hand crafted items\, baked goods and more\, depending on the season. Presenting Sponsor: Tom Holzer Ford. Master Gardner&#39\;s onsite each week from 8:00am - noon. For more information contact the Northville Chamber of Commerce at www.northville.org or 248-349-7640
LOCATION:Corner of Seven Mile Road & S. Center Streets
UID:e.3463.138
SEQUENCE:3
DTSTAMP:20260419T201217Z
URL:https://www.northville.org/events/details/northville-farmers-market-10-24-2019-138
END:VEVENT

END:VCALENDAR
