BEGIN:VCALENDAR
VERSION:2.0
PRODID:-//ChamberMaster//Event Calendar 2.0//EN
METHOD:PUBLISH
X-PUBLISHED-TTL:P3D
REFRESH-INTERVAL:P3D
CALSCALE:GREGORIAN
BEGIN:VEVENT
DTSTART:20191031T120000Z
DTEND:20191031T190000Z
X-MICROSOFT-CDO-ALLDAYEVENT:FALSE
SUMMARY:Northville Farmers Market 2019
DESCRIPTION:The annual Farmers' Market is filled each week with seasonal offerings by Michigan growers\, vendors and crafters. Flowers\, produce\, honey\, plants\, hand crafted items\, baked goods and more\, depending on the season. Presenting Sponsor: Tom Holzer Ford. Master Gardner's onsite each week from 8:00am - noon. For more information contact the Northville Chamber of Commerce at www.northville.org or 248-349-7640
X-ALT-DESC;FMTTYPE=text/html:The annual Farmers&#39\; Market is filled each week with seasonal offerings by Michigan growers\, vendors and crafters. Flowers\, produce\, honey\, plants\, hand crafted items\, baked goods and more\, depending on the season. Presenting Sponsor: Tom Holzer Ford. Master Gardner&#39\;s onsite each week from 8:00am - noon. For more information contact the Northville Chamber of Commerce at www.northville.org or 248-349-7640
LOCATION:Corner of Seven Mile Road & S. Center Streets
UID:e.3463.139
SEQUENCE:3
DTSTAMP:20260419T184713Z
URL:https://www.northville.org/events/details/northville-farmers-market-10-31-2019-139
END:VEVENT

END:VCALENDAR
