BEGIN:VCALENDAR
VERSION:2.0
PRODID:-//ChamberMaster//Event Calendar 2.0//EN
METHOD:PUBLISH
X-PUBLISHED-TTL:P3D
REFRESH-INTERVAL:P3D
CALSCALE:GREGORIAN
BEGIN:VEVENT
DTSTART:20190309T160000Z
DTEND:20190309T190000Z
X-MICROSOFT-CDO-ALLDAYEVENT:FALSE
SUMMARY:Northville Marketplace
DESCRIPTION:The Northville Marketplace is the largest showcase of Northville businesses and organizations all in one place!\n\n\n\nWe Invite the Northville community to take advantage of this opportunity to meet local business owners and representatives and to see what products and services they provide to the Northville community.\n\nWith more than sixty (60) booth exhibitors including retail and service\, businesses\, artisans\, financial institutions\, community\, and educational groups and restaurants. You are sure to see something that interests you!\n\n\n\nEvent Highlights:\n\n	Exhibitors may sell merchandise\, along with providing give-a-ways at their booths.\n	Free samples of food from the area's restaurants including ___\n	Join Ben\, the Master Lego builder\, as he provides kids and parents the opportunity to build a small custom Lego masterpiece.  At your fingertips will be thousands of Legos to use as you build along with the master.  Ben will have projects and many Lego buildings he has personally created on display during the exhibit.  Attendees will not be able to keep the Legos or their creation but will have fun designing and constructing their project.\n\n\n\nKids LEGO Building Contest\n\nFree to participate\, go to the Chamber website to download an entry form or stop by the office and pick one up!\n\n\n\nPresenting Sponsor - Community Financial Credit Union\n\nPremier Sponsors - ___
X-ALT-DESC;FMTTYPE=text/html:The Northville Marketplace is the largest&nbsp\;showcase of Northville businesses and&nbsp\;organizations all in one place!<br />\n<br />\nWe Invite the Northville community to take advantage of this opportunity to meet local business owners and representatives and to see what products and services they provide to the Northville community.<br />\nWith more than sixty (60) booth exhibitors including retail and service\, businesses\, artisans\, financial institutions\, community\, and educational groups and&nbsp\;restaurants. You are sure to see something that interests you!<br />\n<br />\nEvent Highlights:\n<ul>\n	<li>Exhibitors may sell merchandise\, along&nbsp\;with providing give-a-ways at their booths.</li>\n	<li>Free samples of food from the area&rsquo\;s restaurants including ___</li>\n	<li>Join Ben\, the Master Lego builder\, as he provides kids and parents the opportunity to build a small&nbsp\;custom Lego masterpiece.&nbsp\;&nbsp\;At your fingertips will be thousands of Legos to use as you build along with the master.&nbsp\;&nbsp\;Ben will have projects and many Lego buildings he has personally created on display&nbsp\;during the exhibit.&nbsp\;&nbsp\;Attendees will not be able to keep the Legos or their creation but will have fun designing and constructing their project.</li>\n</ul>\n<br />\nKids LEGO&nbsp\;Building Contest<br />\nFree to participate\, go to the Chamber website to download an entry form or stop by the office and pick one up!<br />\n<br />\nPresenting Sponsor - Community Financial Credit Union<br />\nPremier Sponsors - ___
LOCATION:Northville High School 45700 Six Mile Rd\, Northville\, MI 48168
UID:e.3463.1
SEQUENCE:3
DTSTAMP:20260421T182420Z
URL:https://www.northville.org/events/details/northville-marketplace-1
END:VEVENT

END:VCALENDAR
