BEGIN:VCALENDAR
VERSION:2.0
PRODID:-//ChamberMaster//Event Calendar 2.0//EN
METHOD:PUBLISH
X-PUBLISHED-TTL:P3D
REFRESH-INTERVAL:P3D
CALSCALE:GREGORIAN
BEGIN:VEVENT
DTSTART:20260330T224500Z
DTEND:20260331T003000Z
X-MICROSOFT-CDO-ALLDAYEVENT:FALSE
SUMMARY:Teen Group (8-Week session)
DESCRIPTION:Part of our Circles of Hope program. Teen group is an 8-week session support group designed for teens that are grieving the death of a loved one. This program will help teens better understand their grief\, provide a safe space for them to communicate their thoughts and feelings\, and provide them with healthy coping skills\, and the tools they will need to help them navigate their grief journey. Ages 13-18.
X-ALT-DESC;FMTTYPE=text/html:<div>\n<p><span style="color:windowtext\; font-family:calibri\,calibri_embeddedfont\,calibri_msfontservice\,sans-serif\; font-size:11pt">Part of our Circles of Hope program. Teen group is an 8-week session support group designed for teens that are grieving the death of a loved one. This program will help teens better understand their grief\, provide a safe space for them to communicate their thoughts and feelings\, and provide them with healthy coping skills\, and the tools they will need to help them navigate their grief journey. Ages 13-18.</span><span style="color:windowtext\; font-family:calibri\,calibri_embeddedfont\,calibri_msfontservice\,sans-serif\; font-size:11pt">&nbsp\;</span></p>\n</div>\n\n<div>\n<p>&nbsp\;</p>\n</div>\n
LOCATION:Ward Church 40000 Six Mile Road Northville\, MI 48168\, Studio 1
UID:e.3463.6663
SEQUENCE:3
DTSTAMP:20260421T124604Z
URL:https://www.northville.org/events/details/teen-group-8-week-session-03-30-2026-6663
END:VEVENT

END:VCALENDAR
