BEGIN:VCALENDAR
VERSION:2.0
PRODID:-//ChamberMaster//Event Calendar 2.0//EN
METHOD:PUBLISH
X-PUBLISHED-TTL:P3D
REFRESH-INTERVAL:P3D
CALSCALE:GREGORIAN
BEGIN:VEVENT
DTSTART:20191022T200000Z
DTEND:20191022T230000Z
X-MICROSOFT-CDO-ALLDAYEVENT:FALSE
SUMMARY:Tiny Pumpkins
DESCRIPTION:Have a "FANG"tastic time at our not-so-spooky Halloween event with Northville Parks and Recreation! Enjoy pumpkin decorating\, dancing\, coloring\, Halloween stations and a costume contest! Parents & Grandparents are welcome at no charge. No candy will be give out at this event.\n\n\n\nAges 0-5\n\nTuesday\, October 22\n\nSession One: 4:00-5:00pm\n\nSession Two: 6:00-7:00pm\n\nRegistration Deadline: Monday\, October 21 at 4:30pm\n\nLocation: Northville Community Center
X-ALT-DESC;FMTTYPE=text/html:Have a &quot\;FANG&quot\;tastic time at our not-so-spooky Halloween event with Northville Parks and Recreation! Enjoy pumpkin decorating\, dancing\, coloring\, Halloween stations and a costume contest! Parents &amp\; Grandparents are welcome at no charge. No candy will be give out at this event.<br />\n<br />\nAges 0-5<br />\nTuesday\, October 22<br />\nSession One: 4:00-5:00pm<br />\nSession Two: 6:00-7:00pm<br />\nRegistration Deadline: Monday\, October 21 at 4:30pm<br />\nLocation: Northville Community Center
LOCATION:Northville Community Center 3.3 W. Main
UID:e.3463.317
SEQUENCE:3
DTSTAMP:20260419T184019Z
URL:https://www.northville.org/events/details/tiny-pumpkins-317
END:VEVENT

END:VCALENDAR
