BEGIN:VCALENDAR
VERSION:2.0
PRODID:-//ChamberMaster//Event Calendar 2.0//EN
METHOD:PUBLISH
X-PUBLISHED-TTL:P3D
REFRESH-INTERVAL:P3D
CALSCALE:GREGORIAN
BEGIN:VEVENT
DTSTART:20191009T190000Z
DTEND:20191009T200000Z
X-MICROSOFT-CDO-ALLDAYEVENT:FALSE
SUMMARY:Trailhead Playground Ribbon Cutting
DESCRIPTION:Help celebrate the ribbon cutting for the Trailhead Playground\, dedicated to the memory of Sherrill Berman. This inclusive play area is made possible by generous donations from The Berman Family\, Michigan DNR\, Northville Township Firefighters Charity Fund\, The Northville Kiwanis Club and numerous local businesses\, organizations and individuals.
X-ALT-DESC;FMTTYPE=text/html:Help celebrate the ribbon cutting for the Trailhead Playground\, dedicated to the memory of Sherrill Berman. This inclusive play area is made possible by generous donations from The Berman Family\, Michigan DNR\, Northville Township Firefighters Charity Fund\, The Northville Kiwanis Club and numerous local businesses\, organizations and individuals.
LOCATION:Maybury State Park | 8 Mile Road Entrance Near the Trailhead Building
UID:e.3463.330
SEQUENCE:3
DTSTAMP:20260419T184319Z
URL:https://www.northville.org/events/details/trailhead-playground-ribbon-cutting-330
END:VEVENT

END:VCALENDAR
