BEGIN:VCALENDAR
VERSION:2.0
PRODID:-//ChamberMaster//Event Calendar 2.0//EN
METHOD:PUBLISH
X-PUBLISHED-TTL:P3D
REFRESH-INTERVAL:P3D
CALSCALE:GREGORIAN
BEGIN:VEVENT
DTSTART:20191019T200000Z
DTEND:20191019T220000Z
X-MICROSOFT-CDO-ALLDAYEVENT:FALSE
SUMMARY:Trick or Treat Trail
DESCRIPTION:Get ready for a spooky\, frightful\, family friendly\, delightful event with Northville Parks and Recreation! Enjoy a trick or treat trail\, crafts\, entertainment\, and a Haunted Hallway! Advance ticket sales are sold by specific event time. Please arrive at the event entrance a few minutes before your scheduled time to check in. No on-site registration will be available. We recommend everyone to wear costumes and bring a trick-or-treat bag.\n\n\n\nAges: Preschool - 3rd grade\n\nSession One: 4:00 - 5:00pm\n\nSession Two: 5:00 - 6:00pm\n\nFee: $8/child\, adults free\n\n\n\nRegistration deadline: Friday\, October 18 at 4:30pm\n\nLocation: Northville Community Center
X-ALT-DESC;FMTTYPE=text/html:Get ready for a spooky\, frightful\, family friendly\, delightful event with Northville Parks and Recreation! Enjoy a trick or treat trail\, crafts\, entertainment\, and a Haunted Hallway! Advance ticket sales are sold by specific event time. Please arrive at the event entrance a few minutes before your scheduled time to check in. No on-site registration will be available. We recommend everyone to wear costumes and bring a trick-or-treat bag.<br />\n<br />\nAges: Preschool - 3rd grade<br />\nSession One: 4:00 - 5:00pm<br />\nSession Two: 5:00 - 6:00pm<br />\nFee: $8/child\, adults free<br />\n<br />\nRegistration deadline: Friday\, October 18 at 4:30pm<br />\nLocation: Northville Community Center<br />\n<br />\n&nbsp\;
LOCATION:Northville Community Center 303 W. Main
UID:e.3463.316
SEQUENCE:3
DTSTAMP:20260419T184319Z
URL:https://www.northville.org/events/details/trick-or-treat-trail-316
END:VEVENT

END:VCALENDAR
