BEGIN:VCALENDAR
VERSION:2.0
PRODID:-//ChamberMaster//Event Calendar 2.0//EN
METHOD:PUBLISH
X-PUBLISHED-TTL:P3D
REFRESH-INTERVAL:P3D
CALSCALE:GREGORIAN
BEGIN:VEVENT
DTSTART:20241208T170000Z
DTEND:20241208T200000Z
X-MICROSOFT-CDO-ALLDAYEVENT:FALSE
SUMMARY:Visits with Santa
DESCRIPTION:The Northville Downtown Development Authority is excited to bring back A Holiday to Remember for the fourth year on Saturday December 7th and Saturday December 14th. The family friendly event features holiday music\, free Santa visits\, free horse and wagon rides\, and more. Come shop\, dine and enjoy our Social District Holiday as you celebrate the season in Downtown Northville!\n\nSaturday December 7\, 4:00pm   7:00 pm\n\n\n	Horse and wagon rides\, 4:00   7:00 pm\n	Santa in Town Square\n	Arbor Consort Choir in Town Square 5:00   6:00pm\n	Bagpiper 5:00   7:00pm\n	Stand Vendors\, 4:00   7:00 pm\n\n\nSunday December 8\, 12:00pm   3:00pm\n\n\n	Visit Santa for free in Town Square\n\n\nSaturday December 14\, 4:00pm   7:00 pm\n\n\n	Horse and wagon rides\, 4:00   7:00 pm\n	Santa in Town Square 4:00   7:00pm\n	Northville Chorale 5:00   6:00pm\n	Bagpiper 5:00   7:00pm\n	Stand Vendors\, 4:00   7:00 pm\n\n\nSunday December 15\, 12:00pm   3:00pm\n\n\n	Visit Santa for free in Town Square
X-ALT-DESC;FMTTYPE=text/html:<p style="box-sizing: border-box\; margin: 0px 0px 10px\; color: rgb(22\, 22\, 29)\; font-family: Montserrat\, sans-serif\; font-size: 16px\;">The Northville Downtown Development Authority is excited to bring back A Holiday to Remember for the fourth year on Saturday December 7th and Saturday December 14th. The family friendly event features holiday music\, free Santa visits\, free horse and wagon rides\, and more. Come shop\, dine and enjoy our Social District Holiday as you celebrate the season in Downtown Northville!</p>\n\n<p style="box-sizing: border-box\; margin: 0px 0px 10px\; color: rgb(22\, 22\, 29)\; font-family: Montserrat\, sans-serif\; font-size: 16px\;"><strong style="box-sizing: border-box\;">Saturday December 7\, 4:00pm &ndash\; 7:00 pm</strong></p>\n\n<ul style="box-sizing: border-box\; margin-top: 0px\; margin-bottom: 10px\; color: rgb(22\, 22\, 29)\; font-family: Montserrat\, sans-serif\; font-size: 16px\;">\n	<li style="box-sizing: border-box\;">Horse and wagon rides\, 4:00 &ndash\; 7:00 pm</li>\n	<li style="box-sizing: border-box\;">Santa in Town Square</li>\n	<li style="box-sizing: border-box\;">Arbor Consort Choir in Town Square 5:00 &ndash\; 6:00pm</li>\n	<li style="box-sizing: border-box\;">Bagpiper 5:00 &ndash\; 7:00pm</li>\n	<li style="box-sizing: border-box\;">Stand Vendors\, 4:00 &ndash\; 7:00 pm</li>\n</ul>\n\n<p style="box-sizing: border-box\; margin: 0px 0px 10px\; color: rgb(22\, 22\, 29)\; font-family: Montserrat\, sans-serif\; font-size: 16px\;"><strong style="box-sizing: border-box\;">Sunday December 8\, 12:00pm &ndash\; 3:00pm</strong></p>\n\n<ul style="box-sizing: border-box\; margin-top: 0px\; margin-bottom: 10px\; color: rgb(22\, 22\, 29)\; font-family: Montserrat\, sans-serif\; font-size: 16px\;">\n	<li style="box-sizing: border-box\;">Visit Santa for free in Town Square</li>\n</ul>\n\n<p style="box-sizing: border-box\; margin: 0px 0px 10px\; color: rgb(22\, 22\, 29)\; font-family: Montserrat\, sans-serif\; font-size: 16px\;"><strong style="box-sizing: border-box\;">Saturday December 14\, 4:00pm &ndash\; 7:00 pm</strong></p>\n\n<ul style="box-sizing: border-box\; margin-top: 0px\; margin-bottom: 10px\; color: rgb(22\, 22\, 29)\; font-family: Montserrat\, sans-serif\; font-size: 16px\;">\n	<li style="box-sizing: border-box\;">Horse and wagon rides\, 4:00 &ndash\; 7:00 pm</li>\n	<li style="box-sizing: border-box\;">Santa in Town Square 4:00 &ndash\; 7:00pm</li>\n	<li style="box-sizing: border-box\;">Northville Chorale 5:00 &ndash\; 6:00pm</li>\n	<li style="box-sizing: border-box\;">Bagpiper 5:00 &ndash\; 7:00pm</li>\n	<li style="box-sizing: border-box\;">Stand Vendors\, 4:00 &ndash\; 7:00 pm</li>\n</ul>\n\n<p style="box-sizing: border-box\; margin: 0px 0px 10px\; color: rgb(22\, 22\, 29)\; font-family: Montserrat\, sans-serif\; font-size: 16px\;"><strong style="box-sizing: border-box\;">Sunday December 15\, 12:00pm &ndash\; 3:00pm</strong></p>\n\n<ul style="box-sizing: border-box\; margin-top: 0px\; margin-bottom: 10px\; color: rgb(22\, 22\, 29)\; font-family: Montserrat\, sans-serif\; font-size: 16px\;">\n	<li style="box-sizing: border-box\;">Visit Santa for free in Town Square</li>\n</ul>\n
LOCATION:Town Square
UID:e.3463.5336
SEQUENCE:3
DTSTAMP:20260422T073703Z
URL:https://www.northville.org/events/details/visits-with-santa-5336
END:VEVENT

END:VCALENDAR
